BEGIN:VCALENDAR
VERSION:2.0
PRODID:-//Agueera - ECPv6.15.20//NONSGML v1.0//EN
CALSCALE:GREGORIAN
METHOD:PUBLISH
X-ORIGINAL-URL:https://www.agueera.com.ar
X-WR-CALDESC:Eventos para Agueera
REFRESH-INTERVAL;VALUE=DURATION:PT1H
X-Robots-Tag:noindex
X-PUBLISHED-TTL:PT1H
BEGIN:VTIMEZONE
TZID:America/Argentina/Buenos_Aires
BEGIN:STANDARD
TZOFFSETFROM:-0300
TZOFFSETTO:-0300
TZNAME:-03
DTSTART:20240101T000000
END:STANDARD
END:VTIMEZONE
BEGIN:VEVENT
DTSTART;TZID=America/Argentina/Buenos_Aires:20251029T150000
DTEND;TZID=America/Argentina/Buenos_Aires:20251029T163000
DTSTAMP:20260423T185000
CREATED:20251029T131735Z
LAST-MODIFIED:20251029T131735Z
UID:3198-1761750000-1761755400@www.agueera.com.ar
SUMMARY:Webinar Explicativo Res SE N°400/2025 - Reglas para la Normalización del MEM.
DESCRIPTION:AGUEERA invita a los socios a un Webinar explicativo\, junto con CAMMESA\, sobre la Resolución SE N°400/2025 las «Reglas para la Normalización del MEM». \nEn esta oportunidad nos acompañará el Ing. Juan Luchilo de CAMMESA\, de manera virtual y nos dará detalles sobre los conceptos claves que se enmarcan en Las Reglas. \nEsperamos su participación este miércoles 29/10 a las 15 hs. Envíe un mail para que le reenviemos el link de reunión.
URL:https://www.agueera.com.ar/eventos/webinar-explicativo-res-se-n400-2025-reglas-para-la-normalizacion-del-mem/
LOCATION:Buenos Aires
CATEGORIES:Socios
ORGANIZER;CN="AGUEERA":MAILTO:agueera@agueera.com.ar
END:VEVENT
END:VCALENDAR