BEGIN:VCALENDAR
VERSION:2.0
PRODID:-//Agueera - ECPv6.15.20//NONSGML v1.0//EN
CALSCALE:GREGORIAN
METHOD:PUBLISH
X-WR-CALNAME:Agueera
X-ORIGINAL-URL:https://www.agueera.com.ar
X-WR-CALDESC:Eventos para Agueera
REFRESH-INTERVAL;VALUE=DURATION:PT1H
X-Robots-Tag:noindex
X-PUBLISHED-TTL:PT1H
BEGIN:VTIMEZONE
TZID:America/Argentina/Buenos_Aires
BEGIN:STANDARD
TZOFFSETFROM:-0300
TZOFFSETTO:-0300
TZNAME:-03
DTSTART:20240101T000000
END:STANDARD
END:VTIMEZONE
BEGIN:VEVENT
DTSTART;TZID=America/Argentina/Buenos_Aires:20251107T110000
DTEND;TZID=America/Argentina/Buenos_Aires:20251107T123000
DTSTAMP:20260423T184847
CREATED:20251104T183336Z
LAST-MODIFIED:20251104T183336Z
UID:3200-1762513200-1762518600@www.agueera.com.ar
SUMMARY:AGUEERA - Invita a la UIA al webinar explicativo de la Res. SE N°400/2025 - Reglas para la Normalización del MEM y su Adaptación Progresiva
DESCRIPTION:Estimados\, \nAGUEERA tiene el agrado de invita a participar de una jornada de capacitación técnica y conceptual sobre lo definido por la Res. SE N°400/2025 – Reglas para la Normalización del MEM y su Adaptación Progresiva. \nEn esta oportunidad hemos invitado especialmente a el Ing. Alberto Calsiano del Dpto de Energía de UIA\, para que a su vez pueda extender a los miembros de esa prestigiosa entidad que pudieran tener interés en la temática. \nContará con la participación de los especialistas de la Asociación\, quienes abordarán: \n\nlos aspectos regulatorios\, operativos y económicos más relevantes para los grandes usuarios y la industria en general.\nlas alternativas y esquemas de compra de energía eléctrica con que cuentan los Grandes Usuarios y Distribuidores.\nun modelo de los conceptos remunerativos contenidos en las facturas de CAMMESA.\n\nEl encuentro se desarrollará en modalidad [virtual]. Escribanos al mail agueera@agueera.com.ar para recibir el link. \nAgradeceremos a la UIA su valiosa colaboración en la difusión entre sus representantes y asociados. \nLos esperamos!
URL:https://www.agueera.com.ar/eventos/agueera-invita-a-la-uia-al-webinar-explicativo-de-la-res-se-n400-2025-reglas-para-la-normalizacion-del-mem-y-su-adaptacion-progresiva/
LOCATION:Buenos Aires
CATEGORIES:Socios
ORGANIZER;CN="AGUEERA":MAILTO:agueera@agueera.com.ar
END:VEVENT
END:VCALENDAR