BEGIN:VCALENDAR
VERSION:2.0
PRODID:-//Agueera - ECPv6.15.20//NONSGML v1.0//EN
CALSCALE:GREGORIAN
METHOD:PUBLISH
X-WR-CALNAME:Agueera
X-ORIGINAL-URL:https://www.agueera.com.ar
X-WR-CALDESC:Eventos para Agueera
REFRESH-INTERVAL;VALUE=DURATION:PT1H
X-Robots-Tag:noindex
X-PUBLISHED-TTL:PT1H
BEGIN:VTIMEZONE
TZID:America/Argentina/Buenos_Aires
BEGIN:STANDARD
TZOFFSETFROM:-0300
TZOFFSETTO:-0300
TZNAME:-03
DTSTART:20240101T000000
END:STANDARD
END:VTIMEZONE
BEGIN:VEVENT
DTSTART;TZID=America/Argentina/Buenos_Aires:20251120T110000
DTEND;TZID=America/Argentina/Buenos_Aires:20251120T123000
DTSTAMP:20260423T184226
CREATED:20251114T185708Z
LAST-MODIFIED:20251114T185708Z
UID:3291-1763636400-1763641800@www.agueera.com.ar
SUMMARY:WEBINAR: Informe contratos MATER\, análisis del año 2025 hasta octubre y perspectivas futuras de la Resolución SE N°400/2025
DESCRIPTION:Estimados\, \nAGUEERA organiza un webinar sobre los contratos MATER correspondientes al mes de septiembre\, donde veremos precios\, volúmenes y plazos de contrato para conocer la situación presente del mercado renovable a término. \nLuego analizaremos cómo llega el MEM al mes de octubre 2025 y cómo cambia a partir de noviembre con la Resolución SE N°400/2025\, para cerrar con las perspectivas futuras en relación a la demanda\, la generación y los costos del sistema. \nLos esperamos el jueves 20/11 a las 11hs.
URL:https://www.agueera.com.ar/eventos/webinar-informe-contratos-mater-analisis-del-ano-2025-hasta-octubre-y-perspectivas-futuras-de-la-resolucion-se-n400-2025/
LOCATION:Buenos Aires
CATEGORIES:Socios
ORGANIZER;CN="AGUEERA":MAILTO:agueera@agueera.com.ar
END:VEVENT
END:VCALENDAR