BEGIN:VCALENDAR
VERSION:2.0
PRODID:-//Agueera - ECPv6.15.20//NONSGML v1.0//EN
CALSCALE:GREGORIAN
METHOD:PUBLISH
X-WR-CALNAME:Agueera
X-ORIGINAL-URL:https://www.agueera.com.ar
X-WR-CALDESC:Eventos para Agueera
REFRESH-INTERVAL;VALUE=DURATION:PT1H
X-Robots-Tag:noindex
X-PUBLISHED-TTL:PT1H
BEGIN:VTIMEZONE
TZID:America/Argentina/Buenos_Aires
BEGIN:STANDARD
TZOFFSETFROM:-0300
TZOFFSETTO:-0300
TZNAME:-03
DTSTART:20240101T000000
END:STANDARD
END:VTIMEZONE
BEGIN:VEVENT
DTSTART;TZID=America/Argentina/Buenos_Aires:20251017T080000
DTEND;TZID=America/Argentina/Buenos_Aires:20251017T170000
DTSTAMP:20260423T184939
CREATED:20251017T154331Z
LAST-MODIFIED:20251017T154331Z
UID:3195-1760688000-1760720400@www.agueera.com.ar
SUMMARY:Webinar explicativo: Programa de Gestión de Demanda de Energía\, Resolución SE N°379
DESCRIPTION:AGUEERA invita a un Webinar público sobre el Programa de Gestión de Demanda de Energía. Emitida por la Resolución de la Secretaría de Energía N° 379\, que entrará en vigencia en Diciembre y podrán participar los GUMAS\, GUMES y GUDIS. Es un programa de reducción de demanda voluntaria\, remunerada y programada\, asi que es una oportunidad interesante para aquellos usuarios que quieran conocer un poco más en detalle el funcionamiento del mismo. \nLos esperamos el Viernes 24/10 a las 11hs.
URL:https://www.agueera.com.ar/eventos/webinar-explicativo-programa-de-gestion-de-demanda-de-energia-resolucion-se-n379/
LOCATION:Buenos Aires
CATEGORIES:Público
END:VEVENT
BEGIN:VEVENT
DTSTART;TZID=America/Argentina/Buenos_Aires:20251024T110000
DTEND;TZID=America/Argentina/Buenos_Aires:20251024T123000
DTSTAMP:20260423T184939
CREATED:20251013T142816Z
LAST-MODIFIED:20251021T170215Z
UID:3183-1761303600-1761309000@www.agueera.com.ar
SUMMARY:AGUEERA - Invita al Webinar Explicativo Reducción Voluntaria y Remunerada de demanda - Res. SE 379/2025 - Viernes 24 \, 11hs
DESCRIPTION:Tenemos el agrado de invitarlos a un webinar explicativo del funcionamiento de la propuesta de la Secretaría de Energía de la Nación. \nEl Ing. Sergio Falzone de la Secretaría de Energía nos presentará los aspectos resolutivos y los incentivos económicos que la medida de gestión de demanda propone a los Grandes Usuarios. \nEs una alternativa a la demanda GUMA\, GUME y GUDI puedan ofertar una reducción voluntaria y remunerada de demanda en momentos de alta demanda como parte del programa del programa de gestión de la demanda. \nAcompañamos como material indispensable previo a la reunión del viernes 17\,: \n\nuna presentación resumen de los conceptos contenidos en la resolución y\,\nla presentación de la Secretaría de Energía valorizando la propuesta.\n\nLos esperamos a las 11hs! \n 
URL:https://www.agueera.com.ar/eventos/agueera-invita-al-webinar-explicativo-reduccion-voluntaria-y-remunerada-de-demanda-res-se-379-2025-viernes-17-11hs/
LOCATION:Buenos Aires
CATEGORIES:Socios
ORGANIZER;CN="AGUEERA":MAILTO:agueera@agueera.com.ar
END:VEVENT
BEGIN:VEVENT
DTSTART;TZID=America/Argentina/Buenos_Aires:20251029T150000
DTEND;TZID=America/Argentina/Buenos_Aires:20251029T163000
DTSTAMP:20260423T184939
CREATED:20251029T131735Z
LAST-MODIFIED:20251029T131735Z
UID:3198-1761750000-1761755400@www.agueera.com.ar
SUMMARY:Webinar Explicativo Res SE N°400/2025 - Reglas para la Normalización del MEM.
DESCRIPTION:AGUEERA invita a los socios a un Webinar explicativo\, junto con CAMMESA\, sobre la Resolución SE N°400/2025 las «Reglas para la Normalización del MEM». \nEn esta oportunidad nos acompañará el Ing. Juan Luchilo de CAMMESA\, de manera virtual y nos dará detalles sobre los conceptos claves que se enmarcan en Las Reglas. \nEsperamos su participación este miércoles 29/10 a las 15 hs. Envíe un mail para que le reenviemos el link de reunión.
URL:https://www.agueera.com.ar/eventos/webinar-explicativo-res-se-n400-2025-reglas-para-la-normalizacion-del-mem/
LOCATION:Buenos Aires
CATEGORIES:Socios
ORGANIZER;CN="AGUEERA":MAILTO:agueera@agueera.com.ar
END:VEVENT
END:VCALENDAR